BEGIN:VCALENDAR
VERSION:2.0
PRODID:-//Bhaktivedanta Manor - Hare Krishna Temple Watford - ECPv6.6.4.2//NONSGML v1.0//EN
CALSCALE:GREGORIAN
METHOD:PUBLISH
X-WR-CALNAME:Bhaktivedanta Manor - Hare Krishna Temple Watford
X-ORIGINAL-URL:https://www.krishnatemple.com
X-WR-CALDESC:Events for Bhaktivedanta Manor - Hare Krishna Temple Watford
REFRESH-INTERVAL;VALUE=DURATION:PT1H
X-Robots-Tag:noindex
X-PUBLISHED-TTL:PT1H
BEGIN:VTIMEZONE
TZID:Europe/London
BEGIN:DAYLIGHT
TZOFFSETFROM:+0000
TZOFFSETTO:+0100
TZNAME:BST
DTSTART:20260329T010000
END:DAYLIGHT
BEGIN:STANDARD
TZOFFSETFROM:+0100
TZOFFSETTO:+0000
TZNAME:GMT
DTSTART:20261025T010000
END:STANDARD
END:VTIMEZONE
BEGIN:VEVENT
DTSTART;VALUE=DATE:20260426
DTEND;VALUE=DATE:20260427
DTSTAMP:20260426T011359
CREATED:20260330T132840Z
LAST-MODIFIED:20260422T150534Z
UID:29420-1777161600-1777247999@www.krishnatemple.com
SUMMARY:Sunday Love Feast
DESCRIPTION:Join us every Sunday in the Sri Krishna Haveli. Filled with chanting & dancing\, enlivening wisdom\, culture & entertainment\, and of course the delicious prasadam (feast). \nThis will be a family friendly event\, with something for everyone. A chance for the community to come together\, as well as something interesting and inspiring for the newcomer. \nPlease note that simple maha-prasadam will be available for all visitors to the temple\, however the full meal (feast prasadam) will only be for attendees of the full Love feast program. \n11:30am-1pm\n\nLast entry 11:45am \nTalk: ‘Sitayana – The Journey of Sita in the Ramayana’ by Prayagraj Das\nDrama: ‘Shri Rama – Protector of Dharma’ by The Krishna Club\nKirtan & Prasad Feast \n4pm-7pm\n\nSadhu Sanga with Radhanath Swami\nPrasad from 6pm-8pm \nCLICK HERE for more information \nLocation: Sri Krishna Haveli Kirtan Hall \n\n\n\n\n\n\n\n\n\n\n\n\n\n\nCan’t make it to the Manor? Try our Sunday Love Feast in Edgware\nBhaktivedanta Manor warmly invites the local community of Edgware to the Sunday Love Feast — a weekly celebration of joy\, wisdom\, and devotion right in your neighbourhood! \nTime: 10:30am – 12:30pm\nLocation: Krishna Avanti Primary School\, Camrose Ave\, Edgware HA8 6E \n\nSunday School (ages 4-12)*\nWisdom Talks for Adults\nArati\nPrasad\nKirtan\n\n\nMore Info\n\n\n\n\n\n\n\n\n\n\n\n\n\n\n\n\n\n\n\n\n\n\n\n\n\n	Frequently asked questions\n\n\n\n\n\n\n\nDo I need a ticket to attend?\n\n\n\nNo ticket is required. Free for all to attend. \n\n\n\n\n\n\n\n\nWhat time is prasadam served?\n\n\n\nMorning Session: Prasadam will be served at 1pm \nEvening Session: Prasadam will be served at 6:30pm \nPlease note that simple maha-prasadam will be available for all visitors\, however the full meal (feast prasadam) will only be for attendees of the full program. \n\n\n\n\n\n\n\n\nWill there be parking available?\n\n\n\nYes. Free parking will be available all day. \n\n\n\n\n\n\n\n\nHow do I get there?\n\n\n\nAddress Bhaktivedanta Manor Hilfield Lane Watford Sat-Nav: WD25 8HE \nNote: Entrance to temple is via Hilfield Lane only. There is no entrance to the temple through Letchmore Heath village. For driving\, use approximate driving postcode WD25 8HE and follow road signs. Do not use WD25 8EZ\, as this will lead you to a nearby village. \nFor Public Transport & Map\, please CLICK HERE \n\n\n\n\n\n\n\n\n\n\n\n\n\n\n\n\n\n\n	Preview from previous events
URL:https://www.krishnatemple.com/event/sunday-love-feast-04-26/
LOCATION:Sri Krishna Haveli\, Hilfield Lane\, Watford\, WD258EZ\, United Kingdom
CATEGORIES:Special Event
ATTACH;FMTTYPE=image/jpeg:https://www.krishnatemple.com/wp-content/uploads/2023/05/Sunday-Love-Feast-Web3.jpg
ORGANIZER;CN="Bhaktivedanta Manor":MAILTO:info@krishnatemple.com
END:VEVENT
BEGIN:VEVENT
DTSTART;TZID=Europe/London:20260426T043000
DTEND;TZID=Europe/London:20260426T090000
DTSTAMP:20260426T011359
CREATED:20260327T170544Z
LAST-MODIFIED:20260415T115129Z
UID:29401-1777177800-1777194000@www.krishnatemple.com
SUMMARY:Maha Morning Programme
DESCRIPTION:4:30am – 7:00am | Temple Room\, Manor Building\n\nMangal Arati\, Tulsi Puja\, Japa & Deity Greeting \n7:10am – 9:00am | Kirtan Hall\, Sri Krishna Haveli\n\nGuru Puja & Class by Vraja Bihari Das \nTopic: ‘The Six Loving Exchanges: Receiving Gifts’ \nKids Activities: from 8am in Seva Hall A \nBreakfast: 9am in Seva Hall C \n\n\n\n You Are Warmly Invited to the Maha Morning Programme Event  \nDaily Morning Programme\nThe morning programme is the heart of spiritual life in all ISKCON temples worldwide. It is a sacred time to chant\, hear\, and serve in the early hours—nourishing the soul and deepening our connection with Lord Krishna. \nWhat is the Maha Morning Programme Event?\nThis special gathering is designed to inspire and encourage those who may not attend regularly to come and experience the full beauty and potency of the morning programme. Join us for a spiritually enriching experience filled with: \n– Divine Darshan of Their Lordhsips\n– Soulful kirtan and japa meditation\n– Joyous Dancing\n– Uplifting class\n– Blissful devotee association\n– Delicious prasadam \nCome\, Relish\, and Reconnect\nWhether you’re a regular or haven’t been in a while\, this is your invitation to return to the temple and receive the full blessings of the morning programme. \nLet us rise early\, chant together\, and glorify the Lord!\nStart your day inspired by joining us for a morning of divine connection\, sacred chanting\, ecstatic dancing\, and joyful devotee association. \n  \n\n\n\n\n\n\n\n\n\n\n\n\n\n\n	Frequently asked questions\n\n\n\n\n\n\n\nDo I need a ticket to attend?\n\n\n\nNo ticket is required. Free for all to attend. \n\n\n\n\n\n\n\n\nWhat time is prasadam served?\n\n\n\nBreakfast: Prasadam will be served at 9am \n\n\n\n\n\n\n\n\nWill there be parking available?\n\n\n\nYes. Free parking will be available all day. \n\n\n\n\n\n\n\n\nHow do I get there?\n\n\n\nAddress Bhaktivedanta Manor Hilfield Lane Watford Sat-Nav: WD25 8HE \nNote: Entrance to temple is via Hilfield Lane only. There is no entrance to the temple through Letchmore Heath village. For driving\, use approximate driving postcode WD25 8HE and follow road signs. Do not use WD25 8EZ\, as this will lead you to a nearby village. \nFor Public Transport & Map\, please CLICK HERE \n\n\n\n\n\n\n\n\nCan children come?\n\n\n\nYes the programme is open to devotees of all ages. During the Chaitanya Charitamrita class we will have a separate class for children. \n\n\n\n\n\n\n\n\n\n\n\n\n\n\n\n\n\n\n	Preview from previous events
URL:https://www.krishnatemple.com/event/maha-morning-programme/
LOCATION:Bhaktivedanta Manor\, Hilfield Lane\, Watford\, WD258EZ\, United Kingdom
CATEGORIES:Special Event
ATTACH;FMTTYPE=image/jpeg:https://www.krishnatemple.com/wp-content/uploads/2026/03/Maha-Morning-Programme-2026-Apr-Web.jpg
ORGANIZER;CN="Bhaktivedanta Manor":MAILTO:info@krishnatemple.com
END:VEVENT
BEGIN:VEVENT
DTSTART;TZID=Europe/London:20260426T160000
DTEND;TZID=Europe/London:20260426T190000
DTSTAMP:20260426T011359
CREATED:20260421T123936Z
LAST-MODIFIED:20260421T123958Z
UID:29560-1777219200-1777230000@www.krishnatemple.com
SUMMARY:Sadhu Sanga with Radhanath Swami
DESCRIPTION:Sunday 26 April 2026\nRadhanath Swami is one of today’s most beloved and respected spiritual teachers. He spent his youth wandering through disparate countries and cultures yearning for an experience of truth; after finally meeting his spiritual teacher in India he has spent the last 50 years internalising that spiritual practice and sharing it with others. He is not only a guide\, but a community builder\, activist\, and a New York Times Best selling author. Rooted in his study of ancient India’s mystic devotional tradition\, Radhanath Swami’s message is as profound as it is simple: by cultivating a rich inner life of self-awareness and a genuine practice of service\, we can become instruments of compassion and agents of sustainable change in the world. \nLocation: Sri Krishna Haveli\nTime: 4pm-7pm \nPrasadam served from 6pm-8pm \n\n\n\n\n\n\n\n\n\n\n\n\n\n\nLive Broadcast \nThis program will be broadcast live via YouTube \n\n\n\n\n\n\n\n\n\n\n\n\n\n\n	Frequently asked questions\n\n\n\n\n\n\n\nDo I need a ticket to attend?\n\n\n\nNo ticket is required. Free for all to attend. \n\n\n\n\n\n\n\n\nWill there be parking available?\n\n\n\nYes. Free parking will be available all day. \n\n\n\n\n\n\n\n\nHow do I get there?\n\n\n\nAddress\nBhaktivedanta Manor\nHilfield Lane\nWatford\nSat-Nav: WD25 8HE \nNote: Entrance to temple is via Hilfield Lane only. There is no entrance to the temple through Letchmore Heath village. For driving\, use approximate driving postcode WD25 8HE and follow road signs. Do not use WD25 8EZ\, as this will lead you to a nearby village. \nFor Public Transport & Map\, please CLICK HERE
URL:https://www.krishnatemple.com/event/radhanath-swami/
LOCATION:Sri Krishna Haveli\, Hilfield Lane\, Watford\, WD258EZ\, United Kingdom
CATEGORIES:Special Event
ATTACH;FMTTYPE=image/jpeg:https://www.krishnatemple.com/wp-content/uploads/2026/04/Sadhu-Sanga-Radhanath-Swami-Web.jpg
ORGANIZER;CN="Bhaktivedanta Manor":MAILTO:info@krishnatemple.com
END:VEVENT
END:VCALENDAR