BEGIN:VCALENDAR
VERSION:2.0
PRODID:-//Bhaktivedanta Manor - Hare Krishna Temple Watford - ECPv6.6.4.2//NONSGML v1.0//EN
CALSCALE:GREGORIAN
METHOD:PUBLISH
X-ORIGINAL-URL:https://www.krishnatemple.com
X-WR-CALDESC:Events for Bhaktivedanta Manor - Hare Krishna Temple Watford
REFRESH-INTERVAL;VALUE=DURATION:PT1H
X-Robots-Tag:noindex
X-PUBLISHED-TTL:PT1H
BEGIN:VTIMEZONE
TZID:Europe/London
BEGIN:DAYLIGHT
TZOFFSETFROM:+0000
TZOFFSETTO:+0100
TZNAME:BST
DTSTART:20260329T010000
END:DAYLIGHT
BEGIN:STANDARD
TZOFFSETFROM:+0100
TZOFFSETTO:+0000
TZNAME:GMT
DTSTART:20261025T010000
END:STANDARD
END:VTIMEZONE
BEGIN:VEVENT
DTSTART;VALUE=DATE:20260906
DTEND;VALUE=DATE:20260907
DTSTAMP:20260421T062956
CREATED:20251031T175016Z
LAST-MODIFIED:20260417T153815Z
UID:28340-1788652800-1788739199@www.krishnatemple.com
SUMMARY:Sri Krishna Janmashtami
DESCRIPTION:Fri 4 & Sun 6 Sept 2026 | Free ticket required for entry\nTickets will be released few weeks before the festival\, please keep an eye on our website for updates. \nSri Krishna Janmashtami is the appearance day of Lord Sri Krishna\, the Supreme Personality of Godhead. The birth of Lord Krishna is one of the biggest celebrations of the year\, celebrated all over the world.  \nKrishna means “the all-attractive one”. He is the cause of all causes\, the Supreme personality of the entire creation\, both material and spiritual\, He is the God of all gods\, and the Lord within everything and separate from everything at the same time. This is the day devotees celebrate His beautiful pastimes\, His presence in their lives\, taking time to remember their eternal loving relationship with Him and His presence within all of our hearts. \n\n\n\n\n\n\n\n\n\n\n\n\n\nClick here for details and ticket information\n\n\n\n\n\n\n\n\n\n\n\n\nDonate
URL:https://www.krishnatemple.com/event/janmashtami-26-03/
LOCATION:Bhaktivedanta Manor\, Hilfield Lane\, Watford\, WD258EZ\, United Kingdom
CATEGORIES:Public Festivals
ATTACH;FMTTYPE=image/jpeg:https://www.krishnatemple.com/wp-content/uploads/2022/04/22081921-Sri-Krishna-Janmashtami5-Web-Feature.jpg
ORGANIZER;CN="Bhaktivedanta Manor":MAILTO:info@krishnatemple.com
END:VEVENT
END:VCALENDAR