BEGIN:VCALENDAR
VERSION:2.0
PRODID:-//Bhaktivedanta Manor - Hare Krishna Temple Watford - ECPv6.6.4.2//NONSGML v1.0//EN
CALSCALE:GREGORIAN
METHOD:PUBLISH
X-WR-CALNAME:Bhaktivedanta Manor - Hare Krishna Temple Watford
X-ORIGINAL-URL:https://www.krishnatemple.com
X-WR-CALDESC:Events for Bhaktivedanta Manor - Hare Krishna Temple Watford
REFRESH-INTERVAL;VALUE=DURATION:PT1H
X-Robots-Tag:noindex
X-PUBLISHED-TTL:PT1H
BEGIN:VTIMEZONE
TZID:Europe/London
BEGIN:DAYLIGHT
TZOFFSETFROM:+0000
TZOFFSETTO:+0100
TZNAME:BST
DTSTART:20220327T010000
END:DAYLIGHT
BEGIN:STANDARD
TZOFFSETFROM:+0100
TZOFFSETTO:+0000
TZNAME:GMT
DTSTART:20221030T010000
END:STANDARD
END:VTIMEZONE
BEGIN:VEVENT
DTSTART;TZID=Europe/London:20220812T180000
DTEND;TZID=Europe/London:20220812T211500
DTSTAMP:20260420T091535
CREATED:20220623T140051Z
LAST-MODIFIED:20220716T125254Z
UID:18841-1660327200-1660338900@www.krishnatemple.com
SUMMARY:Still Live & Picking with Mangalananda Das
DESCRIPTION:Friday 12 August 2022\nMichael Cassidy [Mangalananda Das] was born May 16\, 1949 in Manchester\, New Hampshire\, USA. \nIn 1971\, Michael became an initiated disciple of A. C. Bhaktivedanta Swami\, the renowned scholar who translated Bhagavad-gita: As It Is\, the jewel of India’s spiritual wisdom. The combination of studying the teachings of bhakti-yoga and practicing the disciplines became a continuous source of inspiration and enlightenment for Michael. He had the opportunity to debut his work prior to his first indie release\, A Change of Heart. In an intimate meeting with his spiritual teacher in 1975\, his guru was very pleased and blessed the project. A Change of Heart was released in 1976 followed by four more albums between 1977 and 1985. \nThis concert is free for everyone to attend\, no ticket required. A unique opportunity to hear many well-known devotional songs in person. This concert is part of a tour around UK & Europe during the Summer of 2022. \n \n  \n\n\n\n\n\n\n\n\n\n\n\n\n\n\nSchedule \nKirtan Hall\, Sri Krishna Haveli\n6pm\nDoors open – Snacks & Drinks\n \n7pm\nConcert starts\n \n8pm\nBreak \n8:15pm\nConcert resumes \n9:15pm\nConcert finishes \n\n\n\n\n\n\n\n\n\n\n\n\n\n\n	Listen\n\n\n\n\n\n\n\n\n\n\n\n\n\n\n\n\n\n	Frequently asked questions\n\n\n\n\n\n\n\nDo I need a ticket to attend?\n\n\n\nNo ticket is required. Free for all to attend. \n\n\n\n\n\n\n\n\nWill there be parking available?\n\n\n\nYes. Free parking will be available all day. \n\n\n\n\n\n\n\n\nHow do I get there?\n\n\n\nAddress\nBhaktivedanta Manor\nHilfield Lane\nWatford\nSat-Nav: WD25 8HE \nNote: Entrance to temple is via Hilfield Lane only. There is no entrance to the temple through Letchmore Heath village. For driving\, use approximate driving postcode WD25 8HE and follow road signs. Do not use WD25 8EZ\, as this will lead you to a nearby village. \nFor Public Transport & Map\, please CLICK HERE \n\n\n\n\n\n\n\n\n\n\n\n\n\n\n\n\n\n\n	Related events\n\n			Appearance of Sri RamanujacharyaApril 22 @ 4:30 pm - 7:30 pmManor. Mantra. MusicApril 23 @ 7:00 pm - 8:30 pmAppearance of Srimati Sita DeviApril 25Sunday Love FeastApril 26Maha Morning ProgrammeApril 26 @ 4:30 am - 9:00 am\n\n		\n\n\n\n\n\n\n\n\n\n\n\n\n\n\n\n\n\n	Preview from previous events
URL:https://www.krishnatemple.com/event/mangalananda/
LOCATION:Bhaktivedanta Manor\, Hilfield Lane\, Watford\, WD258EZ\, United Kingdom
CATEGORIES:Special Event
ATTACH;FMTTYPE=image/jpeg:https://www.krishnatemple.com/wp-content/uploads/2022/06/Mangalananda-Concert3.jpg
ORGANIZER;CN="Bhaktivedanta Manor":MAILTO:info@krishnatemple.com
END:VEVENT
END:VCALENDAR