BEGIN:VCALENDAR
VERSION:2.0
PRODID:-//Bhaktivedanta Manor - Hare Krishna Temple Watford - ECPv6.6.4.2//NONSGML v1.0//EN
CALSCALE:GREGORIAN
METHOD:PUBLISH
X-WR-CALNAME:Bhaktivedanta Manor - Hare Krishna Temple Watford
X-ORIGINAL-URL:https://www.krishnatemple.com
X-WR-CALDESC:Events for Bhaktivedanta Manor - Hare Krishna Temple Watford
REFRESH-INTERVAL;VALUE=DURATION:PT1H
X-Robots-Tag:noindex
X-PUBLISHED-TTL:PT1H
BEGIN:VTIMEZONE
TZID:Europe/London
BEGIN:DAYLIGHT
TZOFFSETFROM:+0000
TZOFFSETTO:+0100
TZNAME:BST
DTSTART:20260329T010000
END:DAYLIGHT
BEGIN:STANDARD
TZOFFSETFROM:+0100
TZOFFSETTO:+0000
TZNAME:GMT
DTSTART:20261025T010000
END:STANDARD
END:VTIMEZONE
BEGIN:VEVENT
DTSTART;VALUE=DATE:20260827
DTEND;VALUE=DATE:20260828
DTSTAMP:20260421T191602
CREATED:20251031T174106Z
LAST-MODIFIED:20251031T174106Z
UID:28331-1787788800-1787875199@www.krishnatemple.com
SUMMARY:Appearance of Lord Balarama
DESCRIPTION:Thurs 27 Aug 2026\nThe Supreme Personality of Godhead\, Krishna\, is the fountainhead of all incarnations. Lord Balarama is His second body. They are both one and the same identity. They differ only in form. In Lord Krishna’s pastimes\, He plays as Krishna’s older brother. Together Krishna and Balarama enact many pastimes as cowherd boys in the land of Vrindavan. \nLord Balarama exemplifies the service attitude to Krishna. His only mission is to please Krishna by rendering service to Him\, whether it is in the creation of the material worlds\, maintaining the spiritual world or as His personal paraphernalia.  \nLord Balarama is the eternal companion of Sri Krishna. He came as Laxman with Rama and later as Sri Nityananda Prabhu with Lord Caitanya. He is the original spiritual master\, and any one desiring to make spiritual progress must first get the mercy of Lord Balarama. \nBalaram Jayanti\, the appearance of Lord Balarama\, celebrates the activities and pastimes of Lord Krishna’s brother\, Lord Balarama. There will be kirtans\, dramas\, ceremonies\, and a feast. Open for everyone. \n\n\n\n\n\n\n\n\n\n\n\n\n\n\nSchedule (Subject to change)\nMorning Programme \n4:30am – Mangal Arati\n7am – Deity Greeting (Darshan)\n7:05am – Jhulan Yatra (Final day)\n7:45am – Guru puja\n8:15am – Class\n12:30pm – Arati\n1:30pm – Lunch Feast (if you would like to sponsor the feast please get in touch with Govinda das 07305 361726) \nEvening Programme\nTimings & Schedule TBC \nHarinam & Book Distribution | Watford Town Centre\nTimings TBC \n(Get the blessings of all vaisnavas\, by sponsoring prasad. Contact bmf@krishnatemple.com) \n(Fasting until noon on this day) \n\n\n\n\n\n\n\n\n\n\n\n\n\n\n	Frequently asked questions\n\n\n\n\n\n\n\nWill there be parking available?\n\n\n\nYes. Free parking will be available all day. \n\n\n\n\n\n\n\n\nHow do I get there?\n\n\n\nAddress\nBhaktivedanta Manor\nHilfield Lane\nWatford\nSat-Nav: WD25 8HE \nNote: Entrance to temple is via Hilfield Lane only. There is no entrance to the temple through Letchmore Heath village. For driving\, use approximate driving postcode WD25 8HE and follow road signs. Do not use WD25 8EZ\, as this will lead you to a nearby village. \nFor Public Transport & Map\, please CLICK HERE \n\n\n\n\n\n\n\n\nHow do I donate towards the festival?\n\n\n\nThank you for thinking of donating! Please click the link below to donate \nDonate here\n\n\n\n\n\n\n\n\n\n\n\n\n\n\n\n\n\n\n	Preview from previous festivals
URL:https://www.krishnatemple.com/event/appearance-of-lord-balarama/
LOCATION:Bhaktivedanta Manor\, Hilfield Lane\, Watford\, WD258EZ\, United Kingdom
CATEGORIES:Vaishnava Festivals
ATTACH;FMTTYPE=image/jpeg:https://www.krishnatemple.com/wp-content/uploads/2022/09/Balarama-Web2.jpg
ORGANIZER;CN="Bhaktivedanta Manor":MAILTO:info@krishnatemple.com
END:VEVENT
END:VCALENDAR