BEGIN:VCALENDAR
VERSION:2.0
PRODID:-//Bhaktivedanta Manor - Hare Krishna Temple Watford - ECPv6.6.4.2//NONSGML v1.0//EN
CALSCALE:GREGORIAN
METHOD:PUBLISH
X-WR-CALNAME:Bhaktivedanta Manor - Hare Krishna Temple Watford
X-ORIGINAL-URL:https://www.krishnatemple.com
X-WR-CALDESC:Events for Bhaktivedanta Manor - Hare Krishna Temple Watford
REFRESH-INTERVAL;VALUE=DURATION:PT1H
X-Robots-Tag:noindex
X-PUBLISHED-TTL:PT1H
BEGIN:VTIMEZONE
TZID:Europe/London
BEGIN:DAYLIGHT
TZOFFSETFROM:+0000
TZOFFSETTO:+0100
TZNAME:BST
DTSTART:20240331T010000
END:DAYLIGHT
BEGIN:STANDARD
TZOFFSETFROM:+0100
TZOFFSETTO:+0000
TZNAME:GMT
DTSTART:20241027T010000
END:STANDARD
END:VTIMEZONE
BEGIN:VEVENT
DTSTART;VALUE=DATE:20241102
DTEND;VALUE=DATE:20241103
DTSTAMP:20260422T025615
CREATED:20240223T125945Z
LAST-MODIFIED:20241209T182401Z
UID:23145-1730505600-1730591999@www.krishnatemple.com
SUMMARY:Annakuta & Govardhana Puja
DESCRIPTION:Saturday 2 November 2024\n\n\n\nGovardhana Puja\, Go-Puja and Annakuta are all connected with the story of Lord Krishna lifting Govardhana Hill to protect the inhabitants of Vrindavan. On this day\, a small hill of sweets is made from food prepared by the devotees\, which is then offered to the Deities\, and subsequently distributed to everyone. This is known as the “annakuta” ceremony. Cows are honoured as part of the festivities as well. \n\n\n\n\n\n\n\n\n\n\n\n\n\n\n\nDonate a Thali\n\n\n\n\n\n\n\n\n\n\n\n\n\n\n\n	Schedule\n\n\n\nSaturday 2 November 2024 | No ticket required | Subject to change\n\nTemple Room\nAnnakuta Darshan: 8am-5pm\nDarshan: 8am-7.30pm \nMorning Program (Sri Krishna Haveli)\n6am – Class\n7am – Guru Puja & Kirtan\n7:30am – Darshan (on Screen)\n7:35am – Damodarastakam + Candle Offerings\n8:15am – Govardhana Puja\n9am – Procession to the Goshalla for Go Puja \nPrasad Notice\nSmall amounts of Annakuta prasad will be distributed to the visitors. Prasad feast is at 7pm (evening). Please note there will be no prasad / meal served in the day\, and there will be no hot food served in the Café (only pre-packed sweets and savouries for takeaway). \nEvening Program (Sri Krishna Haveli)\n5pm – Drama by Bhaktivedanta Players\n5:30pm – Class on Govardhana Puja\n6:30pm – Damodarastakam + Candle Offerings\n7pm – Prasad Feast \nNew Gokul Farm (Goshalla)\n9am-7:30pm \n  \n\n\n\n\n\n\n\n\n\n\n\n\n\n\n\nDonate a Thali\n\n\n\n\n\n\n\n\n\n\n\n\n\n\n\n	Frequently asked questions\n\n\n\n\n\n\n\nDo I need a ticket to attend?\n\n\n\nNo ticket required \n\n\n\n\n\n\n\n\nWill there be parking available?\n\n\n\nYes. Free parking will be available all day. \n\n\n\n\n\n\n\n\nHow do I get there?\n\n\n\nAddress\nBhaktivedanta Manor\nHilfield Lane\nWatford\nSat-Nav: WD25 8HE \nNote: Entrance to temple is via Hilfield Lane only. There is no entrance to the temple through Letchmore Heath village. For driving\, use approximate driving postcode WD25 8HE and follow road signs. Do not use WD25 8EZ\, as this will lead you to a nearby village. \nFor Public Transport & Map\, please CLICK HERE
URL:https://www.krishnatemple.com/event/annakuta-govardhana-puja-23/
LOCATION:Bhaktivedanta Manor\, Hilfield Lane\, Watford\, WD258EZ\, United Kingdom
CATEGORIES:Vaishnava Festivals
ATTACH;FMTTYPE=image/jpeg:https://www.krishnatemple.com/wp-content/uploads/2022/04/Festival_Govardhana_Puja.jpg
ORGANIZER;CN="Bhaktivedanta Manor":MAILTO:info@krishnatemple.com
END:VEVENT
END:VCALENDAR