BEGIN:VCALENDAR
VERSION:2.0
PRODID:-//Bhaktivedanta Manor - Hare Krishna Temple Watford - ECPv6.6.4.2//NONSGML v1.0//EN
CALSCALE:GREGORIAN
METHOD:PUBLISH
X-ORIGINAL-URL:https://www.krishnatemple.com
X-WR-CALDESC:Events for Bhaktivedanta Manor - Hare Krishna Temple Watford
REFRESH-INTERVAL;VALUE=DURATION:PT1H
X-Robots-Tag:noindex
X-PUBLISHED-TTL:PT1H
BEGIN:VTIMEZONE
TZID:Europe/London
BEGIN:DAYLIGHT
TZOFFSETFROM:+0000
TZOFFSETTO:+0100
TZNAME:BST
DTSTART:20240331T010000
END:DAYLIGHT
BEGIN:STANDARD
TZOFFSETFROM:+0100
TZOFFSETTO:+0000
TZNAME:GMT
DTSTART:20241027T010000
END:STANDARD
END:VTIMEZONE
BEGIN:VEVENT
DTSTART;TZID=Europe/London:20241027T163000
DTEND;TZID=Europe/London:20241027T183000
DTSTAMP:20260422T102202
CREATED:20241022T091613Z
LAST-MODIFIED:20241025T142322Z
UID:25547-1730046600-1730053800@www.krishnatemple.com
SUMMARY:Evening Katha & Kirtan with Govind Krishna Das
DESCRIPTION:Sunday 27 October 2024\nSri Krishna Haveli\n4:30pm-6:30pm\nRelish the pastimes of Krishna lifting Govardhan Hill and join us for melodious kirtan. (Kirtan Hall) \nPrasadam served from 6:30pm-8pm \n\n\n\n\n\n\n\n\n\n\n\n\n\n\n\n\nAn opportunity for the whole community to come together and dive deeper into the pastime of Krishna lifting Govardhan Hill\, facilitated by special guest Govinda Krishna das \nAbout Govinda Krishna Das \nGovind Krsna Das\, popularly known as GKD\, based in Kurukshetra\, the land of Mahabharata\, Haryana is a motivational speaker\, spiritual educator\, travel blogger and most importantly a well renowned singer. GKD was born in Kurukshetra\, Haryana in a Brahma Madhva Gaudiya Vaishnava household to Father HG Shakshi Gopal Das (Temple President of Iskcon Kurukshetra) and Mother HG Bhagwati Devi Dasi. He has been actively involved in devotional services since age 5. He received his primary education from ISKCON Gurukul Vrindavan after spending 8 years of intense studying of Vedic scriptures. Later on he completed B.Com followed by MBA from Cornell University\, Ithaca\, NY\, USA and he also holds a Bhakti Shastri and Bhakti Vaibhav from VIHE\, Vrindavan. In 2013 after receiving the instructions from his spiritual master (HH Gopal Krishna Goswami Maharaj)\, he left his career and has taken the full time service of preaching and since then he has made a tremendous contribution with his soulful Kirtans! Govind Krsna Das endeavours to bridge ancient Bhakti yoga traditions with the contemporary world\, using the universal language of music. His mesmerizing performances\, featuring soulful chants and captivating melodies\, transport audiences to realms of transcendence and spiritual bliss.. \n  \n\n\n\n\n\n\n\n\n\n\n\n\n\n\n	Listen\n\n\n\n\n\n\n\n\n\n\n\n\n\n\n\n\n\n	Frequently asked questions\n\n\n\n\n\n\n\nWill there be parking available?\n\n\n\nYes. Free parking will be available all day. \n\n\n\n\n\n\n\n\nHow do I get there?\n\n\n\nAddress Bhaktivedanta Manor Hilfield Lane Watford Sat-Nav: WD25 8HE \nNote: Entrance to temple is via Hilfield Lane only. There is no entrance to the temple through Letchmore Heath village. For driving\, use approximate driving postcode WD25 8HE and follow road signs. Do not use WD25 8EZ\, as this will lead you to a nearby village. \nFor Public Transport & Map\, please CLICK HERE
URL:https://www.krishnatemple.com/event/evening-kirtan-with-gkd/
LOCATION:Sri Krishna Haveli\, Hilfield Lane\, Watford\, WD258EZ\, United Kingdom
CATEGORIES:Special Event
ATTACH;FMTTYPE=image/jpeg:https://www.krishnatemple.com/wp-content/uploads/2024/10/Evening-with-govind-krishna-das2.jpg
ORGANIZER;CN="Bhaktivedanta Manor":MAILTO:info@krishnatemple.com
END:VEVENT
END:VCALENDAR