BEGIN:VCALENDAR
VERSION:2.0
PRODID:-//Bhaktivedanta Manor - Hare Krishna Temple Watford - ECPv6.6.4.2//NONSGML v1.0//EN
CALSCALE:GREGORIAN
METHOD:PUBLISH
X-ORIGINAL-URL:https://www.krishnatemple.com
X-WR-CALDESC:Events for Bhaktivedanta Manor - Hare Krishna Temple Watford
REFRESH-INTERVAL;VALUE=DURATION:PT1H
X-Robots-Tag:noindex
X-PUBLISHED-TTL:PT1H
BEGIN:VTIMEZONE
TZID:Europe/London
BEGIN:DAYLIGHT
TZOFFSETFROM:+0000
TZOFFSETTO:+0100
TZNAME:BST
DTSTART:20240331T010000
END:DAYLIGHT
BEGIN:STANDARD
TZOFFSETFROM:+0100
TZOFFSETTO:+0000
TZNAME:GMT
DTSTART:20241027T010000
END:STANDARD
END:VTIMEZONE
BEGIN:VEVENT
DTSTART;TZID=Europe/London:20240616T190000
DTEND;TZID=Europe/London:20240616T210000
DTSTAMP:20260422T162456
CREATED:20240612T135432Z
LAST-MODIFIED:20240612T171640Z
UID:24378-1718564400-1718571600@www.krishnatemple.com
SUMMARY:Krishna & Ram Bhajans with Maithili Thakur
DESCRIPTION:Sunday 16 June 2024 7pm-9pm | Sri Krishna Haveli\nJoin us for an evening of melodious Krishna and Ram bhajans with world renowned bhajan singer and India’s Culture Ambassador Maithili Thakur \nPrasad is served from 6pm onwards \n  \n\n\n\n\n\n\n\n\n\n\n\n\n\n\n	Frequently asked questions\n\n\n\n\n\n\n\nDo I need a ticket to attend?\n\n\n\nNo ticket is required. Free for all to attend. \n\n\n\n\n\n\n\n\nWill there be parking available?\n\n\n\nYes. Free parking will be available all day. \n\n\n\n\n\n\n\n\nHow do I get there?\n\n\n\nAddress Bhaktivedanta Manor Hilfield Lane Watford Sat-Nav: WD25 8HE \nNote: Entrance to temple is via Hilfield Lane only. There is no entrance to the temple through Letchmore Heath village. For driving\, use approximate driving postcode WD25 8HE and follow road signs. Do not use WD25 8EZ\, as this will lead you to a nearby village. \nFor Public Transport & Map\, please CLICK HERE
URL:https://www.krishnatemple.com/event/maithilithakur/
LOCATION:Sri Krishna Haveli\, Hilfield Lane\, Watford\, WD258EZ\, United Kingdom
CATEGORIES:Special Event
ATTACH;FMTTYPE=image/jpeg:https://www.krishnatemple.com/wp-content/uploads/2024/06/Maithili-Thakur3-1.jpg
ORGANIZER;CN="Bhaktivedanta Manor":MAILTO:info@krishnatemple.com
END:VEVENT
END:VCALENDAR