BEGIN:VCALENDAR
VERSION:2.0
PRODID:-//Bhaktivedanta Manor - Hare Krishna Temple Watford - ECPv6.6.4.2//NONSGML v1.0//EN
CALSCALE:GREGORIAN
METHOD:PUBLISH
X-ORIGINAL-URL:https://www.krishnatemple.com
X-WR-CALDESC:Events for Bhaktivedanta Manor - Hare Krishna Temple Watford
REFRESH-INTERVAL;VALUE=DURATION:PT1H
X-Robots-Tag:noindex
X-PUBLISHED-TTL:PT1H
BEGIN:VTIMEZONE
TZID:Europe/London
BEGIN:DAYLIGHT
TZOFFSETFROM:+0000
TZOFFSETTO:+0100
TZNAME:BST
DTSTART:20250330T010000
END:DAYLIGHT
BEGIN:STANDARD
TZOFFSETFROM:+0100
TZOFFSETTO:+0000
TZNAME:GMT
DTSTART:20251026T010000
END:STANDARD
END:VTIMEZONE
BEGIN:VEVENT
DTSTART;TZID=Europe/London:20250708T190000
DTEND;TZID=Europe/London:20250708T210000
DTSTAMP:20260420T124502
CREATED:20250630T163613Z
LAST-MODIFIED:20250630T164227Z
UID:27545-1752001200-1752008400@www.krishnatemple.com
SUMMARY:Sadhu Sanga with Srutakirti Das
DESCRIPTION:Tuesday 8 July 2025\nLocation: Temple Room\, Bhaktivedanta Manor\nTime: 7pm – 9pm\nTopic: ‘Being in the inner circle of Srila Prabhupada’ \nSrutakirti Prabhu is a senior disciple of His Divine Grace A.C. Bhaktivedanta Swami Srila Prabhupada\, the founder-acharya of the International Society for Krishna Consciousness (ISKCON). He joined ISKCON during its early days and served as Srila Prabhupada’s personal secretary\, traveling extensively with him and documenting his activities and pastimes. \n\n\n\n\n\n\n\n\n\n\n\n\n\n\n	Frequently asked questions\n\n\n\n\n\n\n\nDo I need a ticket to attend?\n\n\n\nNo ticket is required. Free for all to attend. \n\n\n\n\n\n\n\n\nWill there be parking available?\n\n\n\nYes. Free parking will be available all day. \n\n\n\n\n\n\n\n\nHow do I get there?\n\n\n\nAddress Bhaktivedanta Manor Hilfield Lane Watford Sat-Nav: WD25 8HE \nNote: Entrance to temple is via Hilfield Lane only. There is no entrance to the temple through Letchmore Heath village. For driving\, use approximate driving postcode WD25 8HE and follow road signs. Do not use WD25 8EZ\, as this will lead you to a nearby village. \nFor Public Transport & Map\, please CLICK HERE
URL:https://www.krishnatemple.com/event/srutakirti-das/
LOCATION:Bhaktivedanta Manor\, Hilfield Lane\, Watford\, WD258EZ\, United Kingdom
CATEGORIES:Special Event
ATTACH;FMTTYPE=image/jpeg:https://www.krishnatemple.com/wp-content/uploads/2025/06/Untitled-design.jpg
ORGANIZER;CN="Bhaktivedanta Manor":MAILTO:info@krishnatemple.com
END:VEVENT
BEGIN:VEVENT
DTSTART;TZID=Europe/London:20250724T190000
DTEND;TZID=Europe/London:20250724T210000
DTSTAMP:20260420T124502
CREATED:20250716T163952Z
LAST-MODIFIED:20250716T163952Z
UID:27618-1753383600-1753390800@www.krishnatemple.com
SUMMARY:Sadhu Sanga with Gauranga Darshan Das
DESCRIPTION:Thursday 24 July 2025\nLocation: Temple Room\, Bhaktivedanta Manor\nTime: 7pm – 9pm \nGauranga Darshan Das is an award-winning and best-selling spiritual author\, educator\, and inspirational speaker renowned for his ability to make profound wisdom accessible to all. \nWith deep scriptural knowledge and a gift for lucid storytelling\, he simplifies the teachings of the Bhagavad-gītā\, Śrīmad Bhāgavatam\, and other sacred texts\, through his books and talks inspiring transformation through devotion and practical application. \nA resident of ISKCON Govardhan Ecovillage (GEV)\, he serves as the Dean of Bhaktivedanta Vidyapitha\, where he leads an intensive two-year study program on traditional bhakti literatures. Through online and onsite courses\, and seminars\, he has taught thousands of students worldwide\, emphasizing character development\, mindful leadership\, and the relevance of Vedic wisdom in modern life. \nAs the author of several insightful books\, including the “”Subodhini”” study guides\, he provides structured and systematic explanations of scriptures\, helping seekers delve deeper into their spiritual journey. His scholarly yet practical approach makes ancient teachings relatable and actionable. \nBeyond writing and teaching\, Gauranga Darshan Das plays a pivotal role in developing educational curricula\, mentoring aspiring devotees\, and conducting spiritual retreats. He is also a member of the ISKCON Board of Examinations and the GEV Administrative Council\, contributing to the global mission of sharing Krishna consciousness. \nA dedicated disciple of His Holiness Radhanath Swami\, who is a disciple of His Divine Grace A. C. Bhaktivedanta Swami Prabhupāda\, the Founder-Ācārya of ISKCON\, Gauranga Darshan Das is committed to spread devotion\, culture and service attitude. \n\n\n\n\n\n\n\n\n\n\n\n\n\n\n	Frequently asked questions\n\n\n\n\n\n\n\nDo I need a ticket to attend?\n\n\n\nNo ticket is required. Free for all to attend. \n\n\n\n\n\n\n\n\nWill there be parking available?\n\n\n\nYes. Free parking will be available all day. \n\n\n\n\n\n\n\n\nHow do I get there?\n\n\n\nAddress Bhaktivedanta Manor Hilfield Lane Watford Sat-Nav: WD25 8HE \nNote: Entrance to temple is via Hilfield Lane only. There is no entrance to the temple through Letchmore Heath village. For driving\, use approximate driving postcode WD25 8HE and follow road signs. Do not use WD25 8EZ\, as this will lead you to a nearby village. \nFor Public Transport & Map\, please CLICK HERE
URL:https://www.krishnatemple.com/event/gauranga-darshan-das/
LOCATION:Bhaktivedanta Manor\, Hilfield Lane\, Watford\, WD258EZ\, United Kingdom
CATEGORIES:Special Event
ATTACH;FMTTYPE=image/jpeg:https://www.krishnatemple.com/wp-content/uploads/2025/07/Sadhu-Sanga-with-Gauranga-Darshan-Das-Web.jpg
ORGANIZER;CN="Bhaktivedanta Manor":MAILTO:info@krishnatemple.com
END:VEVENT
END:VCALENDAR