BEGIN:VCALENDAR
VERSION:2.0
PRODID:-//Bhaktivedanta Manor - Hare Krishna Temple Watford - ECPv6.6.4.2//NONSGML v1.0//EN
CALSCALE:GREGORIAN
METHOD:PUBLISH
X-ORIGINAL-URL:https://www.krishnatemple.com
X-WR-CALDESC:Events for Bhaktivedanta Manor - Hare Krishna Temple Watford
REFRESH-INTERVAL;VALUE=DURATION:PT1H
X-Robots-Tag:noindex
X-PUBLISHED-TTL:PT1H
BEGIN:VTIMEZONE
TZID:Europe/London
BEGIN:DAYLIGHT
TZOFFSETFROM:+0000
TZOFFSETTO:+0100
TZNAME:BST
DTSTART:20250330T010000
END:DAYLIGHT
BEGIN:STANDARD
TZOFFSETFROM:+0100
TZOFFSETTO:+0000
TZNAME:GMT
DTSTART:20251026T010000
END:STANDARD
END:VTIMEZONE
BEGIN:VEVENT
DTSTART;TZID=Europe/London:20250828T190000
DTEND;TZID=Europe/London:20250828T210000
DTSTAMP:20260421T012723
CREATED:20250822T124400Z
LAST-MODIFIED:20250822T124400Z
UID:27881-1756407600-1756414800@www.krishnatemple.com
SUMMARY:Sadhu Sanga with Madanagopala Das
DESCRIPTION:Thursday 28 August 2025\nLocation: Temple Room\, Bhaktivedanta Manor\nTime: 7pm – 9pm\nTopic: ‘How to Improve Japa’ \nMadanagopala Das  joined ISKCON Nairobi at the age of 14. He moved to the US in 1993 to pursue further education and a professional career and led a number of college preaching initiatives between 1993 and 1999. He completed the GBC College for Leadership course in 2020 and currently serves as one of the faculty members at the GBC College. He is one of the temple directors of ISKCON Parsippany where they are constructing one of the largest ISKCON temples in North America. He is the co-director for ISKCON Communications for North America. He also serves as the Zonal Supervisor for several ISKCON temples in the Northeast region of the US. Under direct order of his spiritual master in 2022\, he has accepted the service of diksha guru. \n\n\n\n\n\n\n\n\n\n\n\n\n\n\n	Frequently asked questions\n\n\n\n\n\n\n\nDo I need a ticket to attend?\n\n\n\nNo ticket is required. Free for all to attend. \n\n\n\n\n\n\n\n\nWill there be parking available?\n\n\n\nYes. Free parking will be available all day. \n\n\n\n\n\n\n\n\nHow do I get there?\n\n\n\nAddress Bhaktivedanta Manor Hilfield Lane Watford Sat-Nav: WD25 8HE \nNote: Entrance to temple is via Hilfield Lane only. There is no entrance to the temple through Letchmore Heath village. For driving\, use approximate driving postcode WD25 8HE and follow road signs. Do not use WD25 8EZ\, as this will lead you to a nearby village. \nFor Public Transport & Map\, please CLICK HERE
URL:https://www.krishnatemple.com/event/madanagopala-das/
LOCATION:Bhaktivedanta Manor\, Hilfield Lane\, Watford\, WD258EZ\, United Kingdom
CATEGORIES:Special Event
ATTACH;FMTTYPE=image/jpeg:https://www.krishnatemple.com/wp-content/uploads/2025/08/Sadhu-Sanga-with-Madanagopala-Das-Web.jpg
ORGANIZER;CN="Bhaktivedanta Manor":MAILTO:info@krishnatemple.com
END:VEVENT
END:VCALENDAR