BEGIN:VCALENDAR
VERSION:2.0
PRODID:-//Bhaktivedanta Manor - Hare Krishna Temple Watford - ECPv6.6.4.2//NONSGML v1.0//EN
CALSCALE:GREGORIAN
METHOD:PUBLISH
X-WR-CALNAME:Bhaktivedanta Manor - Hare Krishna Temple Watford
X-ORIGINAL-URL:https://www.krishnatemple.com
X-WR-CALDESC:Events for Bhaktivedanta Manor - Hare Krishna Temple Watford
REFRESH-INTERVAL;VALUE=DURATION:PT1H
X-Robots-Tag:noindex
X-PUBLISHED-TTL:PT1H
BEGIN:VTIMEZONE
TZID:Europe/London
BEGIN:DAYLIGHT
TZOFFSETFROM:+0000
TZOFFSETTO:+0100
TZNAME:BST
DTSTART:20240331T010000
END:DAYLIGHT
BEGIN:STANDARD
TZOFFSETFROM:+0100
TZOFFSETTO:+0000
TZNAME:GMT
DTSTART:20241027T010000
END:STANDARD
END:VTIMEZONE
BEGIN:VEVENT
DTSTART;VALUE=DATE:20241208
DTEND;VALUE=DATE:20241209
DTSTAMP:20260421T091011
CREATED:20241106T122218Z
LAST-MODIFIED:20241206T171533Z
UID:25716-1733616000-1733702399@www.krishnatemple.com
SUMMARY:Sunday Love Feast
DESCRIPTION:Join us every Sunday in the Sri Krishna Haveli. Filled with chanting & dancing\, enlivening wisdom\, culture & entertainment\, and of course the delicious prasadam (feast). \nThis will be a family friendly event\, with something for everyone. A chance for the community to come together\, as well as something interesting and inspiring for the newcomer. \nPlease note that simple maha-prasadam will be available for all visitors to the temple\, however the full meal (feast prasadam) will only be for attendees of the full Love feast program. \n11:30am-1pm\n\nLast entry 11:45am \nTalk: ‘Sharing Ancient Wisdom in the Season of Giving’ by Vrindavan Chandra Das \n& \n4:30pm-6:30pm\n\nLast entry 4:45pm \nTalk: ‘Living to Give – Being Appreciated by Krishna’ by Vaisnava Das \nLocation: Sri Krishna Haveli Kirtan Hall \n\n\n\n\n\n\n\n\n\n\n\n\n\n\n	Frequently asked questions\n\n\n\n\n\n\n\nDo I need a ticket to attend?\n\n\n\nNo ticket is required. Free for all to attend. \n\n\n\n\n\n\n\n\nWhat time is prasadam served?\n\n\n\nMorning Session: Prasadam will be served at 1pm \nEvening Session: Prasadam will be served at 6:30pm \nPlease note that simple maha-prasadam will be available for all visitors\, however the full meal (feast prasadam) will only be for attendees of the full program. \n\n\n\n\n\n\n\n\nWill there be parking available?\n\n\n\nYes. Free parking will be available all day. \n\n\n\n\n\n\n\n\nHow do I get there?\n\n\n\nAddress Bhaktivedanta Manor Hilfield Lane Watford Sat-Nav: WD25 8HE \nNote: Entrance to temple is via Hilfield Lane only. There is no entrance to the temple through Letchmore Heath village. For driving\, use approximate driving postcode WD25 8HE and follow road signs. Do not use WD25 8EZ\, as this will lead you to a nearby village. \nFor Public Transport & Map\, please CLICK HERE \n\n\n\n\n\n\n\n\n\n\n\n\n\n\n\n\n\n\n	Related events\n\n			Appearance of Sri RamanujacharyaApril 22 @ 4:30 pm - 7:30 pmManor. Mantra. MusicApril 23 @ 7:00 pm - 8:30 pmAppearance of Srimati Sita DeviApril 25Sunday Love FeastApril 26Maha Morning ProgrammeApril 26 @ 4:30 am - 9:00 am\n\n		\n\n\n\n\n\n\n\n\n\n\n\n\n\n\n\n\n\n	Preview from previous events
URL:https://www.krishnatemple.com/event/sunday-love-feast-30/
LOCATION:Sri Krishna Haveli\, Hilfield Lane\, Watford\, WD258EZ\, United Kingdom
CATEGORIES:Special Event
ATTACH;FMTTYPE=image/jpeg:https://www.krishnatemple.com/wp-content/uploads/2023/05/Sunday-Love-Feast-Web3.jpg
ORGANIZER;CN="Bhaktivedanta Manor":MAILTO:info@krishnatemple.com
END:VEVENT
BEGIN:VEVENT
DTSTART;TZID=Europe/London:20241211T140000
DTEND;TZID=Europe/London:20241211T210000
DTSTAMP:20260421T091011
CREATED:20241118T111419Z
LAST-MODIFIED:20241211T142355Z
UID:25797-1733925600-1733950800@www.krishnatemple.com
SUMMARY:Sadhu Sanga with Sacinandana Swami
DESCRIPTION:Wednesday 11 December 2024 – Sri Krishna Haveli\n\nBhagavad-gita Reading | 2pm-6pm \nPrasad | 6pm-7pm* \n(Get the blessings of all vaisnavas\, by sponsoring prasad. Contact bmf@krishnatemple.com) \nEvening Kirtan | 7pm-9pm \nCLICK HERE FOR THE LIVE STREAM \nMorning Classes – Temple Room\n\nThursday 12 December 2024 | 7:30am \nWednesday 18 December 2024 | 7:30am \n– \nAbout Sacinandana Swami: \n\nSacinandana Swami has been a monk in the bhakti tradition for 42 years. He is known for his significant contribution to the practice of contemplation and meditation for modern practitioners of bhakti. Sacinandana Swami has published seven books and released two CDs\, and offers an array of retreats\, seminars\, and workshops. Thousands of enthusiastic singers and dancers visit his kirtan concerts. Fond of India’s sacred pilgrimage sites\, he annually goes there to seek personal inspiration. Although his pilgrimages have taken him all over the subcontinent\, he is particularly fond of the sacred land of Vrindavan\, the birthplace of Lord Krishna. \n\n\n\n\n\n\n\n\n\n\n\n\n\n\n\n	Frequently asked questions\n\n\n\n\n\n\n\nDo I need a ticket to attend?\n\n\n\nNo ticket is required. Free for all to attend. \n\n\n\n\n\n\n\n\nWill there be parking available?\n\n\n\nYes. Free parking will be available all day. \n\n\n\n\n\n\n\n\nHow do I get there?\n\n\n\nAddress Bhaktivedanta Manor Hilfield Lane Watford Sat-Nav: WD25 8HE \nNote: Entrance to temple is via Hilfield Lane only. There is no entrance to the temple through Letchmore Heath village. For driving\, use approximate driving postcode WD25 8HE and follow road signs. Do not use WD25 8EZ\, as this will lead you to a nearby village. \nFor Public Transport & Map\, please CLICK HERE
URL:https://www.krishnatemple.com/event/sacinandana-swami/
LOCATION:Sri Krishna Haveli\, Hilfield Lane\, Watford\, WD258EZ\, United Kingdom
CATEGORIES:Special Event
ATTACH;FMTTYPE=image/jpeg:https://www.krishnatemple.com/wp-content/uploads/2024/11/Sacinandana-Swami-Web.jpg
ORGANIZER;CN="Bhaktivedanta Manor":MAILTO:info@krishnatemple.com
END:VEVENT
BEGIN:VEVENT
DTSTART;VALUE=DATE:20241215
DTEND;VALUE=DATE:20241216
DTSTAMP:20260421T091011
CREATED:20241126T113926Z
LAST-MODIFIED:20241214T125006Z
UID:25850-1734220800-1734307199@www.krishnatemple.com
SUMMARY:Sunday Love Feast
DESCRIPTION:Join us every Sunday in the Sri Krishna Haveli. Filled with chanting & dancing\, enlivening wisdom\, culture & entertainment\, and of course the delicious prasadam (feast). \nThis will be a family friendly event\, with something for everyone. A chance for the community to come together\, as well as something interesting and inspiring for the newcomer. \nPlease note that simple maha-prasadam will be available for all visitors to the temple\, however the full meal (feast prasadam) will only be for attendees of the full Love feast program. \n11:30am-1pm\n\nLast entry 11:45am \nTalk: ‘Chant & Be Happy’ by Pancha Tattva Das \n& \n4:30pm-6:30pm\n\nLast entry 4:45pm \nSurprise Skit by Radha Mohan Das & Team\nTalk: ‘I\, Me & Mine – Who Am I?’ by Radha Mohan Das \nLocation: Sri Krishna Haveli Kirtan Hall \n\n\n\n\n\n\n\n\n\n\n\n\n\n\n	Frequently asked questions\n\n\n\n\n\n\n\nDo I need a ticket to attend?\n\n\n\nNo ticket is required. Free for all to attend. \n\n\n\n\n\n\n\n\nWhat time is prasadam served?\n\n\n\nMorning Session: Prasadam will be served at 1pm \nEvening Session: Prasadam will be served at 6:30pm \nPlease note that simple maha-prasadam will be available for all visitors\, however the full meal (feast prasadam) will only be for attendees of the full program. \n\n\n\n\n\n\n\n\nWill there be parking available?\n\n\n\nYes. Free parking will be available all day. \n\n\n\n\n\n\n\n\nHow do I get there?\n\n\n\nAddress Bhaktivedanta Manor Hilfield Lane Watford Sat-Nav: WD25 8HE \nNote: Entrance to temple is via Hilfield Lane only. There is no entrance to the temple through Letchmore Heath village. For driving\, use approximate driving postcode WD25 8HE and follow road signs. Do not use WD25 8EZ\, as this will lead you to a nearby village. \nFor Public Transport & Map\, please CLICK HERE \n\n\n\n\n\n\n\n\n\n\n\n\n\n\n\n\n\n\n	Related events\n\n			Appearance of Sri RamanujacharyaApril 22 @ 4:30 pm - 7:30 pmManor. Mantra. MusicApril 23 @ 7:00 pm - 8:30 pmAppearance of Srimati Sita DeviApril 25Sunday Love FeastApril 26Maha Morning ProgrammeApril 26 @ 4:30 am - 9:00 am\n\n		\n\n\n\n\n\n\n\n\n\n\n\n\n\n\n\n\n\n	Preview from previous events
URL:https://www.krishnatemple.com/event/sunday-love-feast-31/
LOCATION:Sri Krishna Haveli\, Hilfield Lane\, Watford\, WD258EZ\, United Kingdom
CATEGORIES:Special Event
ATTACH;FMTTYPE=image/jpeg:https://www.krishnatemple.com/wp-content/uploads/2023/05/Sunday-Love-Feast-Web3.jpg
ORGANIZER;CN="Bhaktivedanta Manor":MAILTO:info@krishnatemple.com
END:VEVENT
BEGIN:VEVENT
DTSTART;VALUE=DATE:20241222
DTEND;VALUE=DATE:20241223
DTSTAMP:20260421T091011
CREATED:20241126T113949Z
LAST-MODIFIED:20241220T164026Z
UID:25852-1734825600-1734911999@www.krishnatemple.com
SUMMARY:Sunday Love Feast
DESCRIPTION:Join us every Sunday in the Sri Krishna Haveli. Filled with chanting & dancing\, enlivening wisdom\, culture & entertainment\, and of course the delicious prasadam (feast). \nThis will be a family friendly event\, with something for everyone. A chance for the community to come together\, as well as something interesting and inspiring for the newcomer. \nPlease note that simple maha-prasadam will be available for all visitors to the temple\, however the full meal (feast prasadam) will only be for attendees of the full Love feast program. \n11:30am-1pm\n\nLast entry 11:45am \nTalk: ‘The Gift of Krishna Consciousness’ by Akhanda Krishna Das \n& \n4:30pm-6:30pm\n\nLast entry 4:45pm \nDrama by BMF Team: ‘Again Become a Mouse’ \nTalk by Shyamasundar Das \nLocation: Sri Krishna Haveli Kirtan Hall \n\n\n\n\n\n\n\n\n\n\n\n\n\n\n	Frequently asked questions\n\n\n\n\n\n\n\nDo I need a ticket to attend?\n\n\n\nNo ticket is required. Free for all to attend. \n\n\n\n\n\n\n\n\nWhat time is prasadam served?\n\n\n\nMorning Session: Prasadam will be served at 1pm \nEvening Session: Prasadam will be served at 6:30pm \nPlease note that simple maha-prasadam will be available for all visitors\, however the full meal (feast prasadam) will only be for attendees of the full program. \n\n\n\n\n\n\n\n\nWill there be parking available?\n\n\n\nYes. Free parking will be available all day. \n\n\n\n\n\n\n\n\nHow do I get there?\n\n\n\nAddress Bhaktivedanta Manor Hilfield Lane Watford Sat-Nav: WD25 8HE \nNote: Entrance to temple is via Hilfield Lane only. There is no entrance to the temple through Letchmore Heath village. For driving\, use approximate driving postcode WD25 8HE and follow road signs. Do not use WD25 8EZ\, as this will lead you to a nearby village. \nFor Public Transport & Map\, please CLICK HERE \n\n\n\n\n\n\n\n\n\n\n\n\n\n\n\n\n\n\n	Related events\n\n			Appearance of Sri RamanujacharyaApril 22 @ 4:30 pm - 7:30 pmManor. Mantra. MusicApril 23 @ 7:00 pm - 8:30 pmAppearance of Srimati Sita DeviApril 25Sunday Love FeastApril 26Maha Morning ProgrammeApril 26 @ 4:30 am - 9:00 am\n\n		\n\n\n\n\n\n\n\n\n\n\n\n\n\n\n\n\n\n	Preview from previous events
URL:https://www.krishnatemple.com/event/sunday-love-feast-32/
LOCATION:Sri Krishna Haveli\, Hilfield Lane\, Watford\, WD258EZ\, United Kingdom
CATEGORIES:Special Event
ATTACH;FMTTYPE=image/jpeg:https://www.krishnatemple.com/wp-content/uploads/2023/05/Sunday-Love-Feast-Web3.jpg
ORGANIZER;CN="Bhaktivedanta Manor":MAILTO:info@krishnatemple.com
END:VEVENT
BEGIN:VEVENT
DTSTART;VALUE=DATE:20241229
DTEND;VALUE=DATE:20241230
DTSTAMP:20260421T091011
CREATED:20241126T114011Z
LAST-MODIFIED:20241126T114011Z
UID:25854-1735430400-1735516799@www.krishnatemple.com
SUMMARY:Sunday Love Feast
DESCRIPTION:Join us every Sunday in the Sri Krishna Haveli. Filled with chanting & dancing\, enlivening wisdom\, culture & entertainment\, and of course the delicious prasadam (feast). \nThis will be a family friendly event\, with something for everyone. A chance for the community to come together\, as well as something interesting and inspiring for the newcomer. \nPlease note that simple maha-prasadam will be available for all visitors to the temple\, however the full meal (feast prasadam) will only be for attendees of the full Love feast program. \n11:30am-1pm\n\nLast entry 11:45am \n& \n4:30pm-6:30pm\n\nLast entry 4:45pm \nLocation: Sri Krishna Haveli Kirtan Hall \n\n\n\n\n\n\n\n\n\n\n\n\n\n\n	Frequently asked questions\n\n\n\n\n\n\n\nDo I need a ticket to attend?\n\n\n\nNo ticket is required. Free for all to attend. \n\n\n\n\n\n\n\n\nWhat time is prasadam served?\n\n\n\nMorning Session: Prasadam will be served at 1pm \nEvening Session: Prasadam will be served at 6:30pm \nPlease note that simple maha-prasadam will be available for all visitors\, however the full meal (feast prasadam) will only be for attendees of the full program. \n\n\n\n\n\n\n\n\nWill there be parking available?\n\n\n\nYes. Free parking will be available all day. \n\n\n\n\n\n\n\n\nHow do I get there?\n\n\n\nAddress Bhaktivedanta Manor Hilfield Lane Watford Sat-Nav: WD25 8HE \nNote: Entrance to temple is via Hilfield Lane only. There is no entrance to the temple through Letchmore Heath village. For driving\, use approximate driving postcode WD25 8HE and follow road signs. Do not use WD25 8EZ\, as this will lead you to a nearby village. \nFor Public Transport & Map\, please CLICK HERE \n\n\n\n\n\n\n\n\n\n\n\n\n\n\n\n\n\n\n	Related events\n\n			Appearance of Sri RamanujacharyaApril 22 @ 4:30 pm - 7:30 pmManor. Mantra. MusicApril 23 @ 7:00 pm - 8:30 pmAppearance of Srimati Sita DeviApril 25Sunday Love FeastApril 26Maha Morning ProgrammeApril 26 @ 4:30 am - 9:00 am\n\n		\n\n\n\n\n\n\n\n\n\n\n\n\n\n\n\n\n\n	Preview from previous events
URL:https://www.krishnatemple.com/event/sunday-love-feast-33/
LOCATION:Sri Krishna Haveli\, Hilfield Lane\, Watford\, WD258EZ\, United Kingdom
CATEGORIES:Special Event
ATTACH;FMTTYPE=image/jpeg:https://www.krishnatemple.com/wp-content/uploads/2023/05/Sunday-Love-Feast-Web3.jpg
ORGANIZER;CN="Bhaktivedanta Manor":MAILTO:info@krishnatemple.com
END:VEVENT
BEGIN:VEVENT
DTSTART;TZID=Europe/London:20241231T180000
DTEND;TZID=Europe/London:20241231T235900
DTSTAMP:20260421T091011
CREATED:20240223T131256Z
LAST-MODIFIED:20241230T114608Z
UID:23521-1735668000-1735689540@www.krishnatemple.com
SUMMARY:New Year's Eve Function
DESCRIPTION:Tuesday 31 December 2024\n\nJoin us for an evening of kirtan\, drama\, and celebration to bring in the new year with Krishna consciousness at the centre. \n\n\n\n\n\n\n\n\n\n\n\n\n\n\n	Schedule\n\nSubject to change \n7pm – Drama\n7:30pm – Talent Show: ‘The Manor’s Got Talent’\n9pm – Special Talk\n9:45pm – Kirtan\n12:15am – Finish \nPrasadam: Served from 6pm-8:00pm\n(Get the blessings of all vaisnavas\, by sponsoring prasad. Contact bmf@krishnatemple.com) \nDarshan will close at 9:30pm \n\n\n\n\n\n\n\n\n\n\n\n\n\n\n\n\n	Live Stream\n\n\n\n\n\n\nYouTube\n\nClick here to view the live stream \n\n\n\n\n\n\n\n\n\nFacebook\n\nClick here to view the live stream \n\n\n\n\n\n\n\n\n\n\n\n\n\n\n\n\n\n\n	Frequently asked questions\n\n\n\n\n\n\n\nWill there be parking available?\n\n\n\nYes. Free parking will be available all day. \n\n\n\n\n\n\n\n\nHow do I get there?\n\n\n\nAddress\nBhaktivedanta Manor\nHilfield Lane\nWatford\nSat-Nav: WD25 8HE \nNote: Entrance to temple is via Hilfield Lane only. There is no entrance to the temple through Letchmore Heath village. For driving\, use approximate driving postcode WD25 8HE and follow road signs. Do not use WD25 8EZ\, as this will lead you to a nearby village. \nFor Public Transport & Map\, please CLICK HERE \n\n\n\n\n\n\n\n\n\n\n\n\n\n\n\n\n	The Manor’s Got Talent\n\nJoin us for a unique and exciting show\, giving the community an opportunity to show their special talents from 7pm-9pm. \nIf you wish to showcase your talent\, please submit your application via the button below. We will go through all applications and contact the 10 shortlisted for the show (max 5mins per act) \n\nApplications will close on 23rd Dec and you will be notified on 24th Dec 2024.\n\nExamples: Recitation\, Music\, Dance\, Poetry\, Comedy\, Magic etc.\n\n\nOPEN TO ADULTS AND CHILDREN. FROM AGE 5+\n\nLets finish this year on a high and inspire growth for the New Year!\n\n\nSubmit your application\n\n\n\n\n\n\n\n\n\n\n\n\n\n\n\n	Related events\n\n			Appearance of Sri RamanujacharyaApril 22 @ 4:30 pm - 7:30 pmManor. Mantra. MusicApril 23 @ 7:00 pm - 8:30 pmAppearance of Srimati Sita DeviApril 25Sunday Love FeastApril 26Maha Morning ProgrammeApril 26 @ 4:30 am - 9:00 am
URL:https://www.krishnatemple.com/event/nye/
LOCATION:Bhaktivedanta Manor\, Hilfield Lane\, Watford\, WD258EZ\, United Kingdom
CATEGORIES:Special Event
ATTACH;FMTTYPE=image/jpeg:https://www.krishnatemple.com/wp-content/uploads/2024/02/NYE-Function2.jpg
ORGANIZER;CN="Bhaktivedanta Manor":MAILTO:info@krishnatemple.com
END:VEVENT
END:VCALENDAR