BEGIN:VCALENDAR
VERSION:2.0
PRODID:-//Bhaktivedanta Manor - Hare Krishna Temple Watford - ECPv6.6.4.2//NONSGML v1.0//EN
CALSCALE:GREGORIAN
METHOD:PUBLISH
X-WR-CALNAME:Bhaktivedanta Manor - Hare Krishna Temple Watford
X-ORIGINAL-URL:https://www.krishnatemple.com
X-WR-CALDESC:Events for Bhaktivedanta Manor - Hare Krishna Temple Watford
REFRESH-INTERVAL;VALUE=DURATION:PT1H
X-Robots-Tag:noindex
X-PUBLISHED-TTL:PT1H
BEGIN:VTIMEZONE
TZID:Europe/London
BEGIN:DAYLIGHT
TZOFFSETFROM:+0000
TZOFFSETTO:+0100
TZNAME:BST
DTSTART:20240331T010000
END:DAYLIGHT
BEGIN:STANDARD
TZOFFSETFROM:+0100
TZOFFSETTO:+0000
TZNAME:GMT
DTSTART:20241027T010000
END:STANDARD
END:VTIMEZONE
BEGIN:VEVENT
DTSTART;VALUE=DATE:20241105
DTEND;VALUE=DATE:20241106
DTSTAMP:20260422T034549
CREATED:20231221T152014Z
LAST-MODIFIED:20241104T175249Z
UID:23147-1730764800-1730851199@www.krishnatemple.com
SUMMARY:Disappearance of Srila Prabhupada
DESCRIPTION:Tuesday 5 November 2024\n\nHis Divine Grace\, A.C. Bhaktivedanta Swami Prabhupada (1896-1977) is widely regarded as the world’s pre-eminent exponent of the teachings and practices of bhakti-yoga to the Western world. The disappearance of Srila Prabhupada\, the Founder-Acharya of The International Society for Krishna Consciousness (ISKCON)\, is reflected on by devotees around the world with heartfelt appreciations and chanting of the holy names of the Lord\, appreciating his profound influence on their lives. \n\n\n\n\n\n\n\n\n\n\n\n\n\n\nSchedule (Subject to change)\nTemple Room\n4:30am – Mangal Arati\n7am – Guru Puja\n7:30am – Deity Greeting (Darshan)\n7:35am – Damodarastakam\n8:15am – Class by Srila Prabhupada\n8:45am – Offerings to Srila Prabhupada\n11am – Abhishek of Srila Prabhupada (Prabhupada Disciples only)\n12pm – Guru puja & Pushpanjali\n12:30pm – Arati & Kirtan\n1:30pm – Feast (Served in the Seva Hall) \nHarinam & Book Distribution\n2:45pm – Harinam: Meet outside Caffè Nero (100-102 High St\, Watford\, WD17 2BW)\n2:30 – 5:30pm – Book Distribution: Meet outside TGI Fridays (45-47 High St\, Watford WD17 2DJ) \nSrila Prabhupada’s Room\n6pm – Kirtan & Offerings\n7:23pm – Gurvastakam \n\n\n\n\n\n\n\n\n\n\n\n\n\n\n	Frequently asked questions\n\n\n\n\n\n\n\nDo I need a ticket to attend?\n\n\n\nNo ticket is required. Free for all to attend. \n\n\n\n\n\n\n\n\nWill there be parking available?\n\n\n\nYes. Free parking will be available all day. \n\n\n\n\n\n\n\n\nHow do I get there?\n\n\n\nAddress Bhaktivedanta Manor Hilfield Lane Watford Sat-Nav: WD25 8HE \nNote: Entrance to temple is via Hilfield Lane only. There is no entrance to the temple through Letchmore Heath village. For driving\, use approximate driving postcode WD25 8HE and follow road signs. Do not use WD25 8EZ\, as this will lead you to a nearby village. \nFor Public Transport & Map\, please CLICK HERE \n\n\n\n\n\n\n\n\n\n\n\n\n\n\n\n\n\n\n	Preview from previous festivals
URL:https://www.krishnatemple.com/event/disappearance-of-srila-prabhupada-2024/
LOCATION:Bhaktivedanta Manor\, Hilfield Lane\, Watford\, WD258EZ\, United Kingdom
CATEGORIES:Vaishnava Festivals
ATTACH;FMTTYPE=image/jpeg:https://www.krishnatemple.com/wp-content/uploads/2022/04/Festival_Prabhupada_Disappearance.jpg
ORGANIZER;CN="Bhaktivedanta Manor":MAILTO:info@krishnatemple.com
END:VEVENT
END:VCALENDAR