BEGIN:VCALENDAR
VERSION:2.0
PRODID:-//Bhaktivedanta Manor - Hare Krishna Temple Watford - ECPv6.6.4.2//NONSGML v1.0//EN
CALSCALE:GREGORIAN
METHOD:PUBLISH
X-ORIGINAL-URL:https://www.krishnatemple.com
X-WR-CALDESC:Events for Bhaktivedanta Manor - Hare Krishna Temple Watford
REFRESH-INTERVAL;VALUE=DURATION:PT1H
X-Robots-Tag:noindex
X-PUBLISHED-TTL:PT1H
BEGIN:VTIMEZONE
TZID:Europe/London
BEGIN:DAYLIGHT
TZOFFSETFROM:+0000
TZOFFSETTO:+0100
TZNAME:BST
DTSTART:20240331T010000
END:DAYLIGHT
BEGIN:STANDARD
TZOFFSETFROM:+0100
TZOFFSETTO:+0000
TZNAME:GMT
DTSTART:20241027T010000
END:STANDARD
END:VTIMEZONE
BEGIN:VEVENT
DTSTART;TZID=Europe/London:20240728T163000
DTEND;TZID=Europe/London:20240728T190000
DTSTAMP:20260422T143209
CREATED:20240721T084016Z
LAST-MODIFIED:20240722T101210Z
UID:24655-1722184200-1722193200@www.krishnatemple.com
SUMMARY:Kirtan with Jahnavi Harrison
DESCRIPTION:Sunday 28 July 2024\nSri Krishna Haveli\n4:30pm-7pm\nKirtan with Jahnavi Harrison \nBook your free ticket | A ticket is required for entry to the event in the Kirtan Hall\n  \n\n\n\n\n\n\n\n\n\n\n\n\n\n\n\nBook your free ticket\n\n\n\n\n\n\n\n\n\n\n\n\n\n\n\nAbout Jahnavi Harrison \nJahnavi Harrison (Jahnavi Jivana Dasi) was raised in a family of Bhakti-yoga practitioners at Bhaktivedanta Manor\, one of England’s most important spiritual landmarks. As a child she was fascinated with song and story\, and has nurtured that interest through her life long exploration of music\, dance\, visual art and the written word. She is a musician who aims to channel her creative expression as a path to self-realisation and service. \n\n\n\n\n\n\nFor over 12 years she has travelled the world\, offering her voice and violin playing in the performance of sacred music and call-and-response mantra chant (kirtan). Her sound encompasses rich influences of East and West\, and aims to offer an experience which truly nourishes the spirit. Based in both London and New York\, she offers regular concerts\, sound baths and workshops. \n\n\n\n\n\n\n\n\n\n\n\n\n\n\n\n\n\n\n\n\n\n\n	Live Stream\n\n\n\n\n\n\nYouTube\n\nClick here to view the live stream \n\n\n\n\n\n\n\n\n\nFacebook\n\nClick here to view the live stream \n\n\n\n\n\n\n\n\n\n\n\n\n\n\n\n\n\n\n	Listen\n\n\n\n\n\n\n\n\n\n\n\n\n\n\n\n\n\n	Frequently asked questions\n\n\n\n\n\n\n\nDo I need a ticket?\n\n\n\nA free ticket is required for entry to the event in the Kirtan Hall (Sri Krishna Haveli). \nThe Temple & grounds will remain open as normal. \n\n\n\n\n\n\n\n\nWill there be parking available?\n\n\n\nYes. Free parking will be available all day. \n\n\n\n\n\n\n\n\nHow do I get there?\n\n\n\nAddress Bhaktivedanta Manor Hilfield Lane Watford Sat-Nav: WD25 8HE \nNote: Entrance to temple is via Hilfield Lane only. There is no entrance to the temple through Letchmore Heath village. For driving\, use approximate driving postcode WD25 8HE and follow road signs. Do not use WD25 8EZ\, as this will lead you to a nearby village. \nFor Public Transport & Map\, please CLICK HERE
URL:https://www.krishnatemple.com/event/jahnavi/
LOCATION:Sri Krishna Haveli\, Hilfield Lane\, Watford\, WD258EZ\, United Kingdom
CATEGORIES:Special Event
ATTACH;FMTTYPE=image/jpeg:https://www.krishnatemple.com/wp-content/uploads/2024/07/Kirtan-with-Jahnavi-Harrison-Web-2.jpg
ORGANIZER;CN="Bhaktivedanta Manor":MAILTO:info@krishnatemple.com
END:VEVENT
END:VCALENDAR